BEGIN:VCALENDAR
VERSION:2.0
PRODID:-//Direktversicherungsgeschädigte e.V. - ECPv6.15.20//NONSGML v1.0//EN
CALSCALE:GREGORIAN
METHOD:PUBLISH
X-WR-CALNAME:Direktversicherungsgeschädigte e.V.
X-ORIGINAL-URL:https://dvg-ev.org
X-WR-CALDESC:Veranstaltungen für Direktversicherungsgeschädigte e.V.
REFRESH-INTERVAL;VALUE=DURATION:PT1H
X-Robots-Tag:noindex
X-PUBLISHED-TTL:PT1H
BEGIN:VTIMEZONE
TZID:Europe/Berlin
BEGIN:DAYLIGHT
TZOFFSETFROM:+0100
TZOFFSETTO:+0200
TZNAME:CEST
DTSTART:20250330T010000
END:DAYLIGHT
BEGIN:STANDARD
TZOFFSETFROM:+0200
TZOFFSETTO:+0100
TZNAME:CET
DTSTART:20251026T010000
END:STANDARD
BEGIN:DAYLIGHT
TZOFFSETFROM:+0100
TZOFFSETTO:+0200
TZNAME:CEST
DTSTART:20260329T010000
END:DAYLIGHT
BEGIN:STANDARD
TZOFFSETFROM:+0200
TZOFFSETTO:+0100
TZNAME:CET
DTSTART:20261025T010000
END:STANDARD
BEGIN:DAYLIGHT
TZOFFSETFROM:+0100
TZOFFSETTO:+0200
TZNAME:CEST
DTSTART:20270328T010000
END:DAYLIGHT
BEGIN:STANDARD
TZOFFSETFROM:+0200
TZOFFSETTO:+0100
TZNAME:CET
DTSTART:20271031T010000
END:STANDARD
END:VTIMEZONE
BEGIN:VEVENT
DTSTART;TZID=Europe/Berlin:20260513T130000
DTEND;TZID=Europe/Berlin:20260513T150000
DTSTAMP:20260425T140159
CREATED:20250518T123201Z
LAST-MODIFIED:20260323T204639Z
UID:37360-1778677200-1778684400@dvg-ev.org
SUMMARY:RG Berlin
DESCRIPTION:Cafe Restaurant Weyers\n in der Pariser Str. 16\n10719 Berlin (am Ludwigkirchplatz)\n \nin den Räumen des Cafes\, ev. draußen auf der Terrasse. \nBeginn 13:00 – Ende ca. 15:00 Uhr \nÜber eine rege Teilnahme würden wir uns sehr freuen. \nGabriele Spindler
URL:https://dvg-ev.org/termin/rg-berlin/
LOCATION:Cafe Restaurant Weyers\, Pariser Str. 16\, Berlin\, 10719
END:VEVENT
BEGIN:VEVENT
DTSTART;TZID=Europe/Berlin:20260602T170000
DTEND;TZID=Europe/Berlin:20260602T190000
DTSTAMP:20260425T140159
CREATED:20260330T114157Z
LAST-MODIFIED:20260422T123815Z
UID:28689-1780419600-1780426800@dvg-ev.org
SUMMARY:RG Osnabrücker Land in Kooperation mit der DVG-RG OWL / Altkreis Halle-Gütersloh / AG 30 / Bielefeld / Münster / Minden
DESCRIPTION:Datum: 2. Juni 2026\nfür Mitglieder und die es werden wollen.\nOrt: \nGasthaus Gildehaus\nOeseder Straße 67\n49124 Georgsmarienhütte \nbleiben Sie zuversichtlich
URL:https://dvg-ev.org/termin/rg-osnabruecker-land/
LOCATION:Gasthaus Gildehaus\, Oesederstr. 62\, Georgsmarienhütte\, 49124
ATTACH;FMTTYPE=image/webp:https://dvg-ev.org/wp-content/uploads/2020/02/120294331_3400589563320429_5973997809256143804_n.jpg.webp
END:VEVENT
END:VCALENDAR